BEGIN:VCALENDAR
VERSION:2.0
PRODID:-//Osijek.in - ECPv6.15.17//NONSGML v1.0//EN
CALSCALE:GREGORIAN
METHOD:PUBLISH
X-WR-CALNAME:Osijek.in
X-ORIGINAL-URL:https://osijek.in
X-WR-CALDESC:Događaji za Osijek.in
REFRESH-INTERVAL;VALUE=DURATION:PT1H
X-Robots-Tag:noindex
X-PUBLISHED-TTL:PT1H
BEGIN:VTIMEZONE
TZID:Europe/Vienna
BEGIN:DAYLIGHT
TZOFFSETFROM:+0100
TZOFFSETTO:+0200
TZNAME:CEST
DTSTART:20240331T010000
END:DAYLIGHT
BEGIN:STANDARD
TZOFFSETFROM:+0200
TZOFFSETTO:+0100
TZNAME:CET
DTSTART:20241027T010000
END:STANDARD
BEGIN:DAYLIGHT
TZOFFSETFROM:+0100
TZOFFSETTO:+0200
TZNAME:CEST
DTSTART:20250330T010000
END:DAYLIGHT
BEGIN:STANDARD
TZOFFSETFROM:+0200
TZOFFSETTO:+0100
TZNAME:CET
DTSTART:20251026T010000
END:STANDARD
BEGIN:DAYLIGHT
TZOFFSETFROM:+0100
TZOFFSETTO:+0200
TZNAME:CEST
DTSTART:20260329T010000
END:DAYLIGHT
BEGIN:STANDARD
TZOFFSETFROM:+0200
TZOFFSETTO:+0100
TZNAME:CET
DTSTART:20261025T010000
END:STANDARD
END:VTIMEZONE
BEGIN:VEVENT
DTSTART;TZID=Europe/Vienna:20250509T170000
DTEND;TZID=Europe/Vienna:20250509T233000
DTSTAMP:20260423T054410
CREATED:20250506T084254Z
LAST-MODIFIED:20250506T084254Z
UID:20485-1746810000-1746833400@osijek.in
SUMMARY:Kino Urania - Petak\, 9. svibnja 2025.
DESCRIPTION:17:00 Legenda o fantastičnim stvorenjima- Zak & Wowo\, la légende de Lendarys (86 min) PREMIJERA\n18:00 Kino klub: Arhitekton- Architecton (98 min)\n18:40 Mjesec našeg filma: Duh u močvari (90 min)\n20:00 Kino klub: Ljubav- Kjærlighet (119 min)\n20:30 Revija filmova Stanley Kubricka: Dr. Strangelove ili: Kako sam naučio ne brinuti i zavolio bombu –\nDr. Strangelove or: How I learned to Stop Worrying and Love the Bomb (95 min)
URL:https://osijek.in/dogadaji/kino-urania-petak-9-svibnja-2025/
LOCATION:Kino Urania\, Šetalište kardinala Franje Šepera 8\, Osijek\, Hrvatska\, 31000\, Croatia (Local Name: Hrvatska)
CATEGORIES:Kino,Sva događanja
ATTACH;FMTTYPE=image/png:https://osijek.in/wp-content/uploads/2025/05/Lgenda-o-fantasticnim-stvorenjima.png
END:VEVENT
BEGIN:VEVENT
DTSTART;TZID=Europe/Vienna:20250509T150000
DTEND;TZID=Europe/Vienna:20250509T233000
DTSTAMP:20260423T054410
CREATED:20250506T131952Z
LAST-MODIFIED:20250506T131952Z
UID:20501-1746802800-1746833400@osijek.in
SUMMARY:Osijek Craft Beer Festival
DESCRIPTION:9. Osijek Craft Beer Festival gdje sunce grije\, a pivo osvježava! \n📅 09.-10.05.2025.\n📍 Sunčana ulica\, Osijek \nU srcu slavonske craft scene\, u Sunčanoj ulici u Osijeku\, očekuje te rijeka okusa\, kreativnost u čaši i ekipa koja zna uživati u pravom zanatskom pivu. Osijek\, grad s dušom i stilom\, domaćin je festivala gdje se slavonski karakter miješa s vrhunskim hmeljem. \nDođi\, kušaj i osjeti atmosferu u kojoj craft nije samo pivo – to je način života! Vidimo se! \nCraft pivovare:\nPivovara Medvedgrad\nSamoborska pivovara Razum\nBošnjak Beer&Gin\nZmajska pivovara\nPriMarius craft pivovara\nVarionica craft brewery\nNova Runda\nLepi Dečki Brewery\nFunky Brewery\nBeckers pivovara\nPivovara Franz\nVukovarska craft pivovara\nPivovara Slavonica\nMlinarica\nSaperlot Craft Brewery\nStric pivovara\nPulfer brewery\nReset Brewery \nFoto: Facebook\, Osijek CRAFT BEER Festival
URL:https://osijek.in/dogadaji/osijek-craft-beer-festival/
LOCATION:Sunčana ulica\, Sunčana ulica\, Osijek\, 31000\, Croatia (Local Name: Hrvatska)
CATEGORIES:Sva događanja
ATTACH;FMTTYPE=image/jpeg:https://osijek.in/wp-content/uploads/2025/05/craft_beer_festival_osijek_foto_facebook_craft_beer_festival.jpg
END:VEVENT
BEGIN:VEVENT
DTSTART;TZID=Europe/Vienna:20250508T220000
DTEND;TZID=Europe/Vienna:20250508T220000
DTSTAMP:20260423T054410
CREATED:20250508T061630Z
LAST-MODIFIED:20250508T061952Z
UID:20526-1746741600-1746741600@osijek.in
SUMMARY:Q Club - Student Pulse (DJ Alex Ris & DJ Dancho)
DESCRIPTION:Pripremi se za nezaboravan izlazak! \n40% popusta na odabrane boce žestokog pića od 22:00 do 23:30. \nRezerviraj svoj stol na vrijeme pozivom na +385 95 3917 530. \nSve informacije o noćnom klubu Q Club potražite ovdje. \nMedijski pokrovitelj: Osijek.in
URL:https://osijek.in/dogadaji/q-club-student-pulse-dj-alex-ris-dj-dancho/
LOCATION:Q Club\, Q-Club\, Osijek\, Hrvatska\, 31000\, Croatia (Local Name: Hrvatska)
CATEGORIES:Noćni život,Sva događanja
ATTACH;FMTTYPE=image/png:https://osijek.in/wp-content/uploads/2025/05/Q-Club_8.5.2025.png
END:VEVENT
BEGIN:VEVENT
DTSTART;TZID=Europe/Vienna:20250508T200000
DTEND;TZID=Europe/Vienna:20250508T200000
DTSTAMP:20260423T054410
CREATED:20250508T063115Z
LAST-MODIFIED:20250508T063115Z
UID:20536-1746734400-1746734400@osijek.in
SUMMARY:Bure Bar - Student Warmup Thursday (DJ Andy Box)
DESCRIPTION:Popust na boce žestokih pića od 20:00 do 22:30. \nRezerviraj svoj stol na vrijeme pozivom na +385 91 605 2339. \nSve informacije o pivnici Bure Bar potražite ovdje. \nMedijski pokrovitelj: Osijek.in
URL:https://osijek.in/dogadaji/bure-bar-student-warmup-thursday-dj-andy-box/
LOCATION:Bure Bar\, Pivnica Bure Bar\, Osijek\, Hrvatska\, 31000\, Croatia (Local Name: Hrvatska)
CATEGORIES:Noćni život,Sva događanja
ATTACH;FMTTYPE=image/png:https://osijek.in/wp-content/uploads/2025/05/Bure-Bar_8.5.2025.png
END:VEVENT
BEGIN:VEVENT
DTSTART;TZID=Europe/Vienna:20250508T180000
DTEND;TZID=Europe/Vienna:20250508T200000
DTSTAMP:20260423T054410
CREATED:20250303T194410Z
LAST-MODIFIED:20250303T194410Z
UID:19527-1746727200-1746734400@osijek.in
SUMMARY:B2Run 2025.
DESCRIPTION:Više informacija o događaju saznajte ovdje. \nFoto: B2Run Hrvatska
URL:https://osijek.in/dogadaji/b2run-2025/
LOCATION:Osijek
CATEGORIES:Sport,Sva događanja
ATTACH;FMTTYPE=image/png:https://osijek.in/wp-content/uploads/2024/06/B2Run-2024_Foto_B2Run-Croatia.png
END:VEVENT
BEGIN:VEVENT
DTSTART;TZID=Europe/Vienna:20250508T180000
DTEND;TZID=Europe/Vienna:20250508T190000
DTSTAMP:20260423T054410
CREATED:20250506T052830Z
LAST-MODIFIED:20250506T052830Z
UID:20479-1746727200-1746730800@osijek.in
SUMMARY:Predstava - Čudni kovačev sin
DESCRIPTION:Vanja Jovanović i Petra Pleše \nUlaz s pozivnicom \nFoto: Osijek.in
URL:https://osijek.in/dogadaji/predstava-cudni-kovacev-sin/
LOCATION:Dječje kazalište Branka Mihaljevića\, Dječje kazalište Branka Mihaljevića\, Osijek\, Hrvatska\, 31000\, Croatia (Local Name: Hrvatska)
CATEGORIES:Predstave,Sva događanja
ATTACH;FMTTYPE=image/jpeg:https://osijek.in/wp-content/uploads/2021/09/djecje_kazaliste_foto_osijek_in.jpg
END:VEVENT
BEGIN:VEVENT
DTSTART;TZID=Europe/Vienna:20250508T170000
DTEND;TZID=Europe/Vienna:20250508T233000
DTSTAMP:20260423T054410
CREATED:20250506T084101Z
LAST-MODIFIED:20250506T084101Z
UID:20483-1746723600-1746747000@osijek.in
SUMMARY:Kino Urania - Četvrtak\, 8. svibnja 2025.
DESCRIPTION:17:00 Mjesec našeg filma: Duh babe Ilonke (98 min)\n18:00 Kino klub: Arhitekton- Architecton (98 min)\n19:00 FoodCoolTour: Plastic Fantastic (102 min) PREMIJERA besplatna projekcija\n20:00 Kino klub: Zvjer- Animale (98 min) PREMIJERA\n20:45 Konklava- Conclave (120 min)
URL:https://osijek.in/dogadaji/kino-urania-cetvrtak-8-svibnja-2025/
LOCATION:Kino Urania\, Šetalište kardinala Franje Šepera 8\, Osijek\, Hrvatska\, 31000\, Croatia (Local Name: Hrvatska)
CATEGORIES:Kino,Sva događanja
ATTACH;FMTTYPE=image/png:https://osijek.in/wp-content/uploads/2024/11/Konklava.png
END:VEVENT
BEGIN:VEVENT
DTSTART;TZID=Europe/Vienna:20250507T170000
DTEND;TZID=Europe/Vienna:20250507T233000
DTSTAMP:20260423T054410
CREATED:20250429T192109Z
LAST-MODIFIED:20250429T192109Z
UID:20437-1746637200-1746660600@osijek.in
SUMMARY:Kino Urania - Srijeda\, 7. svibnja 2025.
DESCRIPTION:17:00 Kralj nad kraljevima- King of kings SINK (100 min)\n18:00 Kino klub: Super kućni patuljci- Die Heinzels 2: Neue Mützen\, Neue Mission (76 min) SINK\n19:00 FoodCoolTour: The Perfect Meal (103 min) PREMIJERA besplatna projekcija\n19:30 Kino klub: Praslovan- Praslovan (115 min)\n20:50 Konklava- Conclave (120 min)
URL:https://osijek.in/dogadaji/kino-urania-srijeda-7-svibnja-2025/
LOCATION:Kino Urania\, Šetalište kardinala Franje Šepera 8\, Osijek\, Hrvatska\, 31000\, Croatia (Local Name: Hrvatska)
CATEGORIES:Kino,Sva događanja
ATTACH;FMTTYPE=image/png:https://osijek.in/wp-content/uploads/2024/11/Konklava.png
END:VEVENT
BEGIN:VEVENT
DTSTART;TZID=Europe/Vienna:20250506T170000
DTEND;TZID=Europe/Vienna:20250506T233000
DTSTAMP:20260423T054410
CREATED:20250429T192007Z
LAST-MODIFIED:20250429T192007Z
UID:20435-1746550800-1746574200@osijek.in
SUMMARY:Kino Urania - Utorak\, 6. svibnja 2025.
DESCRIPTION:17:00 Minecraft film (101 min) TITL\n18:00 Kino klub: Praslovan- Praslovan (115 min)\n18:50 Konklava- Conclave (120 min)\n20:00 Kino klub: Ljubav- Kjærlighet (119 min) PREMIJERA\n21:00 Računovođa 2- The Accountant 2 (124 min)
URL:https://osijek.in/dogadaji/kino-urania-utorak-6-svibnja-2025/
LOCATION:Hrvatska
CATEGORIES:Kino,Sva događanja
ATTACH;FMTTYPE=image/png:https://osijek.in/wp-content/uploads/2025/04/Racunovoda-2.png
END:VEVENT
BEGIN:VEVENT
DTSTART;TZID=Europe/Vienna:20250506T100000
DTEND;TZID=Europe/Vienna:20250506T110000
DTSTAMP:20260423T054410
CREATED:20250505T042721Z
LAST-MODIFIED:20250505T042721Z
UID:20474-1746525600-1746529200@osijek.in
SUMMARY:Predstava - Dirigent
DESCRIPTION:U režiji Ivana Kristijana Majića\, izvedbi glumaca: Silvija Švasta\, Hane Schӧnfeld i Grgura Grgića te Krežminog ansambla glazbenika: Bele Nagyja  i Vladimira Piskunova na violinama\, Veronike Kilmajer na violi\, Maje Iljovski na violončelu\, Siniše Mazalice na kontrabasu\, Mije Mandić na flauti\, Žane Smojver na klarinetu\, Domagaja Pećara na fagotu i Laszla Kolara na udaraljkama\, nastala je ova koncert – predstava koja djeci približava svijet klasične glazbe na njima prilagođen\, edukativan\, razumljiv i zabavan način i otvara im vrata koncertnih dvorana od najranije dobi. \nKako klincima ozbiljnu glazbu učiniti zabavnom? Kako ih privući u koncertnu dvoranu\, a da pritom ne „umru od dosade“? Kako im „idemo na koncert?“ učiniti rečenicom koju žele čuti?  \n U „Dirigentima“ je odgovor! \n „Dirigenti“ su namijenjeni osnovnoškolcima i obiteljskoj publici\, koje će nasmijati ova zabavna suigra (vrhunske) glazbe i glume\, i to na univerzalnom jeziku glazbe i pokreta koji baš svi razumiju. \nO PREDSTAVI \nDvoje scenskih radnika nađe se\, spletom okolnosti\, usred koncerta. Taman su htjeli premjestiti neke instrumente\, postaviti note i lampe na mjesta\, malo se zanijeli u ‘kreveljenju’ i igri\, kad im se dogodi situacija! Uliječe orkestar\, strogi dirigent i počinje koncert! I što sad’!? Nema van! Kreće vratolomna igra skrivanja\, ‘glupiranja’\, dirigiranja\, sviranja\, lova i bijega. A u pozadini Mozartova glazba… \nPredstava je ostvarena uz potporu Grada Osijeka i Osječko-baranjske županije.
URL:https://osijek.in/dogadaji/predstava-dirigent/
LOCATION:Koncertna dvorana Franjo Krežma\, Kulturni centar Osijek\, Osijek\, Hrvatska\, 31000\, Croatia (Local Name: Hrvatska)
CATEGORIES:Predstave,Sva događanja
ATTACH;FMTTYPE=image/png:https://osijek.in/wp-content/uploads/2025/05/Dirigenti_Foto_Kulturni-centar-OSijek.png
END:VEVENT
BEGIN:VEVENT
DTSTART;TZID=Europe/Vienna:20250505T170000
DTEND;TZID=Europe/Vienna:20250505T210000
DTSTAMP:20260423T054410
CREATED:20250429T191830Z
LAST-MODIFIED:20250429T191830Z
UID:20433-1746464400-1746478800@osijek.in
SUMMARY:Kino Urania - Ponedjeljak\, 5. svibnja 2025.
DESCRIPTION:17:00 Minecraft film (101 min) SINK\n18:00 Kino klub: Arhitekton- Architecton (98 min)\n18:50 Konklava- Conclave (120 min)\n20:00 Kino klub: Ljubav- Kjærlighet (119 min) PREMIJERA\n21:00 Thunderbolti- Thunderbolts (128 min) PREMIJERA
URL:https://osijek.in/dogadaji/kino-urania-ponedjeljak-5-svibnja-2025/
LOCATION:Kino Urania\, Šetalište kardinala Franje Šepera 8\, Osijek\, Hrvatska\, 31000\, Croatia (Local Name: Hrvatska)
CATEGORIES:Kino,Sva događanja
ATTACH;FMTTYPE=image/png:https://osijek.in/wp-content/uploads/2025/04/Thunderbolts.png
END:VEVENT
BEGIN:VEVENT
DTSTART;TZID=Europe/Vienna:20250504T110000
DTEND;TZID=Europe/Vienna:20250504T233000
DTSTAMP:20260423T054410
CREATED:20250429T191728Z
LAST-MODIFIED:20250429T191728Z
UID:20431-1746356400-1746401400@osijek.in
SUMMARY:Kino Urania - Nedjelja\, 4. svibnja 2025.
DESCRIPTION:11:00 Dječja matineja: Kralj nad kraljevima- King of kings SINK (100 min)\n17:00 Minecraft film (101 min) TITL\n18:00 Kino klub: Super kućni patuljci- Die Heinzels 2: Neue Mützen\, Neue Mission (76 min) SINK\n19:00 Konklava- Conclave (120 min)\n19:30 Kino klub: Praslovan- Praslovan (115 min)\n21:15 Računovođa 2- The Accountant 2 (124 min)
URL:https://osijek.in/dogadaji/kino-urania-nedjelja-4-svibnja-2025/
LOCATION:Kino Urania\, Šetalište kardinala Franje Šepera 8\, Osijek\, Hrvatska\, 31000\, Croatia (Local Name: Hrvatska)
CATEGORIES:Kino,Sva događanja
ATTACH;FMTTYPE=image/png:https://osijek.in/wp-content/uploads/2024/11/Konklava.png
END:VEVENT
BEGIN:VEVENT
DTSTART;TZID=Europe/Vienna:20250503T220000
DTEND;TZID=Europe/Vienna:20250504T050000
DTSTAMP:20260423T054410
CREATED:20250430T135120Z
LAST-MODIFIED:20250430T135120Z
UID:20447-1746309600-1746334800@osijek.in
SUMMARY:Q club - Let it rain saturday
DESCRIPTION:Pripremi se za nezaboravan izlazak! \nPopust na žestoka pića od 22:00 do 23:30. \nRezerviraj svoj stol na vrijeme pozivom na +385 95 3917 530. \nSve informacije o noćnom klubu Q Club potražite ovdje. \nMedijski pokrovitelj: Osijek.in
URL:https://osijek.in/dogadaji/q-club-let-it-rain-saturday/
LOCATION:Q Club\, Q-Club\, Osijek\, Hrvatska\, 31000\, Croatia (Local Name: Hrvatska)
CATEGORIES:Noćni život,Sva događanja
ATTACH;FMTTYPE=image/jpeg:https://osijek.in/wp-content/uploads/2025/04/qclub_subota.jpg
END:VEVENT
BEGIN:VEVENT
DTSTART;TZID=Europe/Vienna:20250503T200000
DTEND;TZID=Europe/Vienna:20250504T020000
DTSTAMP:20260423T054410
CREATED:20250430T140037Z
LAST-MODIFIED:20250430T140037Z
UID:20463-1746302400-1746324000@osijek.in
SUMMARY:Bure Bar - Stay up saturday (DJ Morning Indian)
DESCRIPTION:Popust na boce žestokih pića od 20:00 do 22:30. \nRezerviraj svoj stol na vrijeme pozivom na +385 91 605 2339. \nSve informacije o pivnici Bure Bar potražite ovdje. \nMedijski pokrovitelj: Osijek.in
URL:https://osijek.in/dogadaji/bure-bar-stay-up-saturday-dj-morning-indian/
LOCATION:Bure Bar\, Pivnica Bure Bar\, Osijek\, Hrvatska\, 31000\, Croatia (Local Name: Hrvatska)
CATEGORIES:Noćni život,Sva događanja
ATTACH;FMTTYPE=image/jpeg:https://osijek.in/wp-content/uploads/2025/04/bure_subota.jpg
END:VEVENT
BEGIN:VEVENT
DTSTART;TZID=Europe/Vienna:20250503T190000
DTEND;TZID=Europe/Vienna:20250504T030000
DTSTAMP:20260423T054410
CREATED:20250430T135424Z
LAST-MODIFIED:20250430T135424Z
UID:20454-1746298800-1746327600@osijek.in
SUMMARY:Kafanica - Nenad Cvijetić & Band
DESCRIPTION:Rezervirajte svoj stol pozivom na +385 91 605 2339 i uživajte! \nSve informacije o restoranu i noćnom klubu Kafanica potražite ovdje. \nMedijski pokrovitelj: Osijek.in
URL:https://osijek.in/dogadaji/kafanica-nenad-cvijetic-band/
LOCATION:Kafanica\, restoran-noćni bar Kafanica\, Osijek\, Hrvatska\, 31000\, Croatia (Local Name: Hrvatska)
CATEGORIES:Noćni život,Sva događanja
ATTACH;FMTTYPE=image/jpeg:https://osijek.in/wp-content/uploads/2025/04/kafanica_subota.jpg
END:VEVENT
BEGIN:VEVENT
DTSTART;TZID=Europe/Vienna:20250503T110000
DTEND;TZID=Europe/Vienna:20250503T233000
DTSTAMP:20260423T054410
CREATED:20250429T191627Z
LAST-MODIFIED:20250429T191627Z
UID:20429-1746270000-1746315000@osijek.in
SUMMARY:Kino Urania - Subota\, 3. svibnja 2025.
DESCRIPTION:11:00 Dječja matineja: Minecraft film (101 min) SINK\n17:00 Kralj nad kraljevima- King of kings SINK (100 min)\n18:00 Kino klub: Super kućni patuljci- Die Heinzels 2: Neue Mützen\, Neue Mission (76 min) SINK\n19:00 Računovođa 2- The Accountant 2 (124 min)\n19:30 Kino klub: Ljubav- Kjærlighet (119 min) PREMIJERA\n21:15 Thunderbolti- Thunderbolts (128 min) PREMIJERA
URL:https://osijek.in/dogadaji/kino-urania-subota-3-svibnja-2025/
LOCATION:Kino Urania\, Šetalište kardinala Franje Šepera 8\, Osijek\, Hrvatska\, 31000\, Croatia (Local Name: Hrvatska)
CATEGORIES:Kino,Sva događanja
ATTACH;FMTTYPE=image/png:https://osijek.in/wp-content/uploads/2025/04/Racunovoda-2.png
END:VEVENT
BEGIN:VEVENT
DTSTART;TZID=Europe/Vienna:20250502T220000
DTEND;TZID=Europe/Vienna:20250503T050000
DTSTAMP:20260423T054410
CREATED:20250430T134706Z
LAST-MODIFIED:20250430T135138Z
UID:20443-1746223200-1746248400@osijek.in
SUMMARY:Q club - 1st of May\, afterparty
DESCRIPTION:Pripremi se za nezaboravan izlazak! \nPopust na žestoka pića 40%\, na ostala pića 20%. \nRezerviraj svoj stol na vrijeme pozivom na +385 95 3917 530. \nSve informacije o noćnom klubu Q Club potražite ovdje. \nMedijski pokrovitelj: Osijek.in
URL:https://osijek.in/dogadaji/q-club-1st-of-may-afterparty/
LOCATION:Q Club\, Q-Club\, Osijek\, Hrvatska\, 31000\, Croatia (Local Name: Hrvatska)
CATEGORIES:Noćni život,Sva događanja
ATTACH;FMTTYPE=image/jpeg:https://osijek.in/wp-content/uploads/2025/04/qclub_petak.jpg
END:VEVENT
BEGIN:VEVENT
DTSTART;TZID=Europe/Vienna:20250502T200000
DTEND;TZID=Europe/Vienna:20250503T020000
DTSTAMP:20260423T054410
CREATED:20250430T135926Z
LAST-MODIFIED:20250430T135926Z
UID:20460-1746216000-1746237600@osijek.in
SUMMARY:Bure Bar - Finally friday (DJ Morning Indian)
DESCRIPTION:Popust na boce žestokih pića od 20:00 do 22:30. \nRezerviraj svoj stol na vrijeme pozivom na +385 91 605 2339. \nSve informacije o pivnici Bure Bar potražite ovdje. \nMedijski pokrovitelj: Osijek.in
URL:https://osijek.in/dogadaji/bure-bar-finally-friday-dj-morning-indian/
LOCATION:Bure Bar\, Pivnica Bure Bar\, Osijek\, Hrvatska\, 31000\, Croatia (Local Name: Hrvatska)
CATEGORIES:Noćni život,Sva događanja
ATTACH;FMTTYPE=image/jpeg:https://osijek.in/wp-content/uploads/2025/04/bure_petak.jpg
END:VEVENT
BEGIN:VEVENT
DTSTART;TZID=Europe/Vienna:20250502T200000
DTEND;TZID=Europe/Vienna:20250502T233000
DTSTAMP:20260423T054410
CREATED:20250328T163004Z
LAST-MODIFIED:20250328T163004Z
UID:20002-1746216000-1746228600@osijek.in
SUMMARY:Koncert - Adi Šoše
DESCRIPTION:Foto: Facebook\, Entrio
URL:https://osijek.in/dogadaji/koncert-adi-sose/
LOCATION:Športska dvorana Zrinjevac\, Zrinjevac ul. 11\, Osijek\, Hrvatska\, 31000\, Croatia (Local Name: Hrvatska)
CATEGORIES:Koncerti,Sva događanja
ATTACH;FMTTYPE=image/jpeg:https://osijek.in/wp-content/uploads/2025/03/adi_sose.jpg
END:VEVENT
BEGIN:VEVENT
DTSTART;TZID=Europe/Vienna:20250502T190000
DTEND;TZID=Europe/Vienna:20250503T030000
DTSTAMP:20260423T054410
CREATED:20250430T135313Z
LAST-MODIFIED:20250430T135313Z
UID:20451-1746212400-1746241200@osijek.in
SUMMARY:Kafanica - Sinners band
DESCRIPTION:Rezervirajte svoj stol pozivom na +385 91 605 2339 i uživajte! \nSve informacije o restoranu i noćnom klubu Kafanica potražite ovdje. \nMedijski pokrovitelj: Osijek.in
URL:https://osijek.in/dogadaji/kafanica-sinners-band/
LOCATION:Kafanica\, restoran-noćni bar Kafanica\, Osijek\, Hrvatska\, 31000\, Croatia (Local Name: Hrvatska)
CATEGORIES:Noćni život,Sva događanja
ATTACH;FMTTYPE=image/jpeg:https://osijek.in/wp-content/uploads/2025/04/kafanica_petak.jpg
END:VEVENT
BEGIN:VEVENT
DTSTART;TZID=Europe/Vienna:20250502T093000
DTEND;TZID=Europe/Vienna:20250502T233000
DTSTAMP:20260423T054410
CREATED:20250429T191529Z
LAST-MODIFIED:20250429T191529Z
UID:20426-1746178200-1746228600@osijek.in
SUMMARY:Kino Urania - Petak\, 2. svibnja 2025.
DESCRIPTION:9:30 Kralj nad kraljevima- King of kings SINK (100 min)\n17:00 Minecraft film (101 min) SINK\n18:00 Kino klub: Arhitekton- Architecton (98 min)\n18:50 Računovođa 2- The Accountant 2 (124 min)\n20:00 Kino klub: Ljubav- Kjærlighet (119 min) PREMIJERA\n21:00 Thunderbolti- Thunderbolts (128 min) PREMIJERA
URL:https://osijek.in/dogadaji/kino-urania-petak-2-svibnja-2025/
LOCATION:Kino Urania\, Šetalište kardinala Franje Šepera 8\, Osijek\, Hrvatska\, 31000\, Croatia (Local Name: Hrvatska)
CATEGORIES:Kino,Sva događanja
ATTACH;FMTTYPE=image/png:https://osijek.in/wp-content/uploads/2025/04/Thunderbolts.png
END:VEVENT
BEGIN:VEVENT
DTSTART;TZID=Europe/Vienna:20250501T220000
DTEND;TZID=Europe/Vienna:20250502T050000
DTSTAMP:20260423T054410
CREATED:20250430T133741Z
LAST-MODIFIED:20250430T135142Z
UID:20440-1746136800-1746162000@osijek.in
SUMMARY:Q club - May Day
DESCRIPTION:Pripremi se za nezaboravan izlazak! \nPopust na odabrane boce žestokog pića od 22:00 do 23:30. \nRezerviraj svoj stol na vrijeme pozivom na +385 95 3917 530. \nSve informacije o noćnom klubu Q Club potražite ovdje. \nMedijski pokrovitelj: Osijek.in
URL:https://osijek.in/dogadaji/q-club-may-day/
LOCATION:Q Club\, Q-Club\, Osijek\, Hrvatska\, 31000\, Croatia (Local Name: Hrvatska)
CATEGORIES:Noćni život,Sva događanja
ATTACH;FMTTYPE=image/jpeg:https://osijek.in/wp-content/uploads/2025/04/qclub_cetvrtak.jpg
END:VEVENT
BEGIN:VEVENT
DTSTART;TZID=Europe/Vienna:20250501T200000
DTEND;TZID=Europe/Vienna:20250502T020000
DTSTAMP:20260423T054410
CREATED:20250430T135803Z
LAST-MODIFIED:20250430T135803Z
UID:20457-1746129600-1746151200@osijek.in
SUMMARY:Bure Bar - Student warmup
DESCRIPTION:Popust na boce žestokih pića od 20:00 do 22:30. \nRezerviraj svoj stol na vrijeme pozivom na +385 91 605 2339. \nSve informacije o pivnici Bure Bar potražite ovdje. \nMedijski pokrovitelj: Osijek.in
URL:https://osijek.in/dogadaji/bure-bar-student-warmup/
LOCATION:Bure Bar\, Pivnica Bure Bar\, Osijek\, Hrvatska\, 31000\, Croatia (Local Name: Hrvatska)
CATEGORIES:Noćni život,Sva događanja
ATTACH;FMTTYPE=image/jpeg:https://osijek.in/wp-content/uploads/2025/04/bure_cetvtak.jpg
END:VEVENT
BEGIN:VEVENT
DTSTART;TZID=Europe/Vienna:20250501T100000
DTEND;TZID=Europe/Vienna:20250501T170000
DTSTAMP:20260423T054410
CREATED:20250422T052046Z
LAST-MODIFIED:20250422T052046Z
UID:20325-1746093600-1746118800@osijek.in
SUMMARY:Teniski turnir „Jezero Open“
DESCRIPTION:Povodom obilježavanja 1. svibnja – Dana Gradske četvrti Industrijska četvrt\, Vijeće Gradske četvrti Industrijska četvrt u suradnji s Tenis klubom Jezero\, po prvi puta organizira teniski turnir „Jezero Open“\, nadnevka 1. svibnja 2025.\, u 10:00 sati\, na teniskim terenima TK Jezero. \nKotizacija je besplatna\, te je organiziran ručak nakon turnira. \n 
URL:https://osijek.in/dogadaji/teniski-turnir-jezero-open/
LOCATION:Teniski klub Jezero\, Teniski klub Jezero\, Osijek\, Osijek\, Hrvatska\, 31000\, Croatia (Local Name: Hrvatska)
CATEGORIES:Sport,Sva događanja
ATTACH;FMTTYPE=image/png:https://osijek.in/wp-content/uploads/2025/04/Jezero-open.png
END:VEVENT
BEGIN:VEVENT
DTSTART;TZID=Europe/Vienna:20250430T100000
DTEND;TZID=Europe/Vienna:20250430T110000
DTSTAMP:20260423T054410
CREATED:20250212T131806Z
LAST-MODIFIED:20250429T190643Z
UID:19313-1746007200-1746010800@osijek.in
SUMMARY:Predstava - Vrijeme za bajku
DESCRIPTION:Jiri Streda/ Ivica Lučić/ Zvjezdana Bučanin \nOrganizirani dolazak i slobodna prodaja ulaznica. \nFoto: Osijek.in
URL:https://osijek.in/dogadaji/predstava-vrijeme-za-bajku/
LOCATION:Dječje kazalište Branka Mihaljevića\, Dječje kazalište Branka Mihaljevića\, Osijek\, Hrvatska\, 31000\, Croatia (Local Name: Hrvatska)
CATEGORIES:Predstave,Sva događanja
ATTACH;FMTTYPE=image/jpeg:https://osijek.in/wp-content/uploads/2021/09/djecje_kazaliste_foto_osijek_in.jpg
END:VEVENT
BEGIN:VEVENT
DTSTART;TZID=Europe/Vienna:20250430T083000
DTEND;TZID=Europe/Vienna:20250430T233000
DTSTAMP:20260423T054410
CREATED:20250423T061918Z
LAST-MODIFIED:20250423T061918Z
UID:20356-1746001800-1746055800@osijek.in
SUMMARY:Kino Urania - Srijeda\, 30. travnja 2025.
DESCRIPTION:8:30 Medijska kultura: Šegrt Hlapić (101 min)\n17:00 Kralj nad kraljevima- King of kings SINK (100 min)\n18:00 Kino klub: Super kućni patuljci- Die Heinzels 2: Neue Mützen\, Neue Mission (76 min) SINK\n18:50 Minecraft film (101 min) TITL\n19:30 Kino klub: Praslovan- Praslovan (115 min)\n20:40 Računovođa 2- The Accountant 2 (124 min) PREMIJERA
URL:https://osijek.in/dogadaji/kino-urania-srijeda-30-travnja-2025/
LOCATION:Kino Urania\, Šetalište kardinala Franje Šepera 8\, Osijek\, Hrvatska\, 31000\, Croatia (Local Name: Hrvatska)
CATEGORIES:Kino,Sva događanja
ATTACH;FMTTYPE=image/png:https://osijek.in/wp-content/uploads/2025/04/Racunovoda-2.png
END:VEVENT
BEGIN:VEVENT
DTSTART;TZID=Europe/Vienna:20250429T113000
DTEND;TZID=Europe/Vienna:20250429T233000
DTSTAMP:20260423T054410
CREATED:20250423T061825Z
LAST-MODIFIED:20250423T061825Z
UID:20354-1745926200-1745969400@osijek.in
SUMMARY:Kino Urania - Utorak\, 29. travnja 2025.
DESCRIPTION:11:30-13:30 ŽRA: Medijska pismenost i dezinformacije- panel/ sudjelovanje besplatno\n17:00 Kralj nad kraljevima- King of kings SINK (100 min)\n18:00 Kino klub: Film4YOU/LUX Award: Poplava-Flow (85 min)\n19:00 Minecraft film (101 min) TITL\n20:00 Kino klub: Praslovan- Praslovan (115 min)\n21:00 Računovođa 2- The Accountant 2 (124 min) PREMIJERA
URL:https://osijek.in/dogadaji/kino-urania-utorak-29-travnja-2025/
LOCATION:Kino Urania\, Šetalište kardinala Franje Šepera 8\, Osijek\, Hrvatska\, 31000\, Croatia (Local Name: Hrvatska)
CATEGORIES:Kino,Sva događanja
ATTACH;FMTTYPE=image/png:https://osijek.in/wp-content/uploads/2025/04/Racunovoda-2.png
ORGANIZER;CN="Kino Urania":MAILTO:info@kinematografi-osijek.hr
END:VEVENT
BEGIN:VEVENT
DTSTART;TZID=Europe/Vienna:20250428T170000
DTEND;TZID=Europe/Vienna:20250428T233000
DTSTAMP:20260423T054410
CREATED:20250423T061709Z
LAST-MODIFIED:20250423T061709Z
UID:20352-1745859600-1745883000@osijek.in
SUMMARY:Kino Urania - Ponedjeljak\, 28. travnja 2025.
DESCRIPTION:17:00 Film4YOU/LUX Award: Poplava-Flow (85 min)\n18:00 Kino klub: Arhitekton- Architecton (98 min) PREMIJERA\n19:00 Film Classics: Miloš Forman: Amadeus (1984)\n20:00 Kino klub: Praslovan- Praslovan (115 min)
URL:https://osijek.in/dogadaji/kino-urania-ponedjeljak-28-travnja-2025/
LOCATION:Kino Urania\, Šetalište kardinala Franje Šepera 8\, Osijek\, Hrvatska\, 31000\, Croatia (Local Name: Hrvatska)
CATEGORIES:Kino,Sva događanja
ATTACH;FMTTYPE=image/png:https://osijek.in/wp-content/uploads/2025/04/Praslovan.png
END:VEVENT
BEGIN:VEVENT
DTSTART;TZID=Europe/Vienna:20250427T190000
DTEND;TZID=Europe/Vienna:20250427T210000
DTSTAMP:20260423T054410
CREATED:20250328T062037Z
LAST-MODIFIED:20250328T062037Z
UID:19990-1745780400-1745787600@osijek.in
SUMMARY:Predstava - Astroklikeri
DESCRIPTION:Đurđa Stojković\, proslavljena astrologinja društvenih mreža\, poznata je po intrigantnim i duhovitim astrološkim analizama. Svoje površno znanje iz astrologije Đurđa\, prije svega\, tretira kao unosan biznis i zabavu\, a kroz komunikaciju mjerenu brojem lajkova i pohvala na mrežama\, Đurđa se bori s usamljenošću i menopauzom.\nŽivot bez djece\, partnera i iskrenih prijatelja ojačava njenu bliskost sa starom\, načetom majkom koja Đurđu tretira kao djevojčicu u pubertetu\, a što unosi dodatni nemir u Đurđinu nisku razinu svjesnosti o sebi samoj. Depresivnu stvarnost svakodnevno zamjenjuje romantiziranim digitalnim postojanjem novonastale astro-zvijezde. \nNjezini klijenti je obožavaju što Đurđu drži u dobrom raspoloženju\, al kad se ugase kamere i ekrani\, gasi se i njen život. \nJesu li Đurđini klijenti jednako očajni kao i ona? Jesu li ovisnici  “duhovnih” šarenih laža\, a ona samoprozvani guru digitalnog doba ili je u pitanju zajednička potraga za smislom u jednom novom otuđenom vremenu? Zašto Đurđa voli klikere i astrologiju? Ima li astrologija rješenje za njenu zamršenu životnu situaciju? \nNAPOMENA: Autorica se ne razumije u astrologiju i ne posjeduje proročke moći\, a ovaj duuuugački monolog je proizvod njene booogate mašte. \nProdaja ulaznica: blagajna kina Urania od 28.3. i sustav entrio.
URL:https://osijek.in/dogadaji/predstava-astroklikeri-4/
LOCATION:Kino Urania\, Šetalište kardinala Franje Šepera 8\, Osijek\, Hrvatska\, 31000\, Croatia (Local Name: Hrvatska)
CATEGORIES:Predstave,Sva događanja
ATTACH;FMTTYPE=image/png:https://osijek.in/wp-content/uploads/2025/03/Astroklikeri_naslovna.png
END:VEVENT
BEGIN:VEVENT
DTSTART;TZID=Europe/Vienna:20250427T110000
DTEND;TZID=Europe/Vienna:20250427T233000
DTSTAMP:20260423T054410
CREATED:20250423T061606Z
LAST-MODIFIED:20250423T061606Z
UID:20350-1745751600-1745796600@osijek.in
SUMMARY:Kino Urania - Nedjelja\, 27. travnja 2025.
DESCRIPTION:11:00 Dječja matineja: Kralj nad kraljevima- King of kings SINK (100 min)\n16:15 Minecraft film (101 min) SINK\n18:00 Kino klub: Super kućni patuljci- Die Heinzels 2: Neue Mützen\, Neue Mission (76 min) SINK\n19:00 monodrama Sandre Silađev Astroklikeri\n19:30 Kino klub: Arhitekton- Architecton (98 min) PREMIJERA\n21:15 Računovođa 2- The Accountant 2 (124 min) PREMIJERA
URL:https://osijek.in/dogadaji/kino-urania-nedjelja-27-travnja-2025/
LOCATION:Kino Urania\, Šetalište kardinala Franje Šepera 8\, Osijek\, Hrvatska\, 31000\, Croatia (Local Name: Hrvatska)
CATEGORIES:Kino,Sva događanja
ATTACH;FMTTYPE=image/png:https://osijek.in/wp-content/uploads/2025/04/Kralj-nad-kraljevima.png
END:VEVENT
END:VCALENDAR